BEGIN:VCALENDAR
VERSION:2.0
PRODID:-//Friends of Gwinnett Seniors - ECPv6.15.20//NONSGML v1.0//EN
CALSCALE:GREGORIAN
METHOD:PUBLISH
X-ORIGINAL-URL:https://friendsofgwinnettseniors.org
X-WR-CALDESC:Events for Friends of Gwinnett Seniors
REFRESH-INTERVAL;VALUE=DURATION:PT1H
X-Robots-Tag:noindex
X-PUBLISHED-TTL:PT1H
BEGIN:VTIMEZONE
TZID:UTC
BEGIN:STANDARD
TZOFFSETFROM:+0000
TZOFFSETTO:+0000
TZNAME:UTC
DTSTART:20210101T000000
END:STANDARD
END:VTIMEZONE
BEGIN:VEVENT
DTSTART;TZID=UTC:20221230T080000
DTEND;TZID=UTC:20221230T170000
DTSTAMP:20260422T032555
CREATED:20221230T234747Z
LAST-MODIFIED:20221230T234747Z
UID:2442-1672387200-1672419600@friendsofgwinnettseniors.org
SUMMARY:PLAY BINGO FOR SENIORS!
DESCRIPTION:Come play BINGO with us on Wednesday February 1 from 7:00pm – 8:30pm at Slow Pour Brewery in Lawrenceville\, Georgia! This fundraiser is $5 for a Bingo card and a chance to win some wacky prizes! Have a beverage while your there! Come have fun and meet some of the Board Members of Friends of Gwinnett Seniors!
URL:https://friendsofgwinnettseniors.org/event/play-bingo-for-seniors/
ATTACH;FMTTYPE=image/png:https://friendsofgwinnettseniors.org/wp-content/uploads/2022/12/bingo.png
END:VEVENT
END:VCALENDAR