BEGIN:VCALENDAR
VERSION:2.0
PRODID:-//Friends of Gwinnett Seniors - ECPv6.15.20//NONSGML v1.0//EN
CALSCALE:GREGORIAN
METHOD:PUBLISH
X-ORIGINAL-URL:https://friendsofgwinnettseniors.org
X-WR-CALDESC:Events for Friends of Gwinnett Seniors
REFRESH-INTERVAL;VALUE=DURATION:PT1H
X-Robots-Tag:noindex
X-PUBLISHED-TTL:PT1H
BEGIN:VTIMEZONE
TZID:UTC
BEGIN:STANDARD
TZOFFSETFROM:+0000
TZOFFSETTO:+0000
TZNAME:UTC
DTSTART:20210101T000000
END:STANDARD
END:VTIMEZONE
BEGIN:VEVENT
DTSTART;TZID=UTC:20221025T103000
DTEND;TZID=UTC:20221025T120000
DTSTAMP:20260422T101338
CREATED:20220928T003438Z
LAST-MODIFIED:20220928T003438Z
UID:2411-1666693800-1666699200@friendsofgwinnettseniors.org
SUMMARY:Outback at Work Charity Lunch
DESCRIPTION:It’s that time again! Outback-at-Work is back and scheduled for Tuesday\, October 25\, 2022. Place your order for a delicious mixed-grill meal by completing the form below or contacting admin@friendsofgwinnettseniors.org. Volunteers will deliver meals to your work – within Gwinnett County only please! Minimum group order of 4 for delivery. All proceeds benefit Friends of Gwinnett Seniors and provide funding for programs such as home-delivered meals and emergency funding for local seniors. For meal details and more info about the event CLICK HERE. \n \n 
URL:https://friendsofgwinnettseniors.org/event/outback-at-work-charity-lunch-3/
END:VEVENT
END:VCALENDAR