BEGIN:VCALENDAR
VERSION:2.0
PRODID:-//Friends of Gwinnett Seniors - ECPv6.15.20//NONSGML v1.0//EN
CALSCALE:GREGORIAN
METHOD:PUBLISH
X-ORIGINAL-URL:https://friendsofgwinnettseniors.org
X-WR-CALDESC:Events for Friends of Gwinnett Seniors
REFRESH-INTERVAL;VALUE=DURATION:PT1H
X-Robots-Tag:noindex
X-PUBLISHED-TTL:PT1H
BEGIN:VTIMEZONE
TZID:UTC
BEGIN:STANDARD
TZOFFSETFROM:+0000
TZOFFSETTO:+0000
TZNAME:UTC
DTSTART:20170101T000000
END:STANDARD
END:VTIMEZONE
BEGIN:VEVENT
DTSTART;TZID=UTC:20181206T173000
DTEND;TZID=UTC:20181206T190000
DTSTAMP:20260419T120357
CREATED:20181106T145419Z
LAST-MODIFIED:20181106T145732Z
UID:2016-1544117400-1544122800@friendsofgwinnettseniors.org
SUMMARY:Friends Board Holiday Social
DESCRIPTION:Friends’ Board annual holiday gathering & brief business mtg at Outback Steakhouse\, 145 Celebration Dr.\, Suwanee\, GA  30024
URL:https://friendsofgwinnettseniors.org/event/friends-board-holiday-social/
LOCATION:Outback Steakhouse\, 145 Celebration Dr.\, Suwanee\, Georgia\, 30024
END:VEVENT
END:VCALENDAR