BEGIN:VCALENDAR
VERSION:2.0
PRODID:-//Friends of Gwinnett Seniors - ECPv6.15.20//NONSGML v1.0//EN
CALSCALE:GREGORIAN
METHOD:PUBLISH
X-ORIGINAL-URL:https://friendsofgwinnettseniors.org
X-WR-CALDESC:Events for Friends of Gwinnett Seniors
REFRESH-INTERVAL;VALUE=DURATION:PT1H
X-Robots-Tag:noindex
X-PUBLISHED-TTL:PT1H
BEGIN:VTIMEZONE
TZID:UTC
BEGIN:STANDARD
TZOFFSETFROM:+0000
TZOFFSETTO:+0000
TZNAME:UTC
DTSTART:20180101T000000
END:STANDARD
END:VTIMEZONE
BEGIN:VEVENT
DTSTART;TZID=UTC:20191121T153000
DTEND;TZID=UTC:20191121T170000
DTSTAMP:20260420T055441
CREATED:20190425T232024Z
LAST-MODIFIED:20190425T232024Z
UID:2073-1574350200-1574355600@friendsofgwinnettseniors.org
SUMMARY:Friends Executive Committee Mtg
DESCRIPTION:
URL:https://friendsofgwinnettseniors.org/event/friends-executive-committee-mtg-4/
END:VEVENT
END:VCALENDAR