BEGIN:VCALENDAR
VERSION:2.0
PRODID:-//Friends of Gwinnett Seniors - ECPv6.15.20//NONSGML v1.0//EN
CALSCALE:GREGORIAN
METHOD:PUBLISH
X-WR-CALNAME:Friends of Gwinnett Seniors
X-ORIGINAL-URL:https://friendsofgwinnettseniors.org
X-WR-CALDESC:Events for Friends of Gwinnett Seniors
REFRESH-INTERVAL;VALUE=DURATION:PT1H
X-Robots-Tag:noindex
X-PUBLISHED-TTL:PT1H
BEGIN:VTIMEZONE
TZID:UTC
BEGIN:STANDARD
TZOFFSETFROM:+0000
TZOFFSETTO:+0000
TZNAME:UTC
DTSTART:20180101T000000
END:STANDARD
END:VTIMEZONE
BEGIN:VEVENT
DTSTART;TZID=UTC:20191004T080000
DTEND;TZID=UTC:20191004T120000
DTSTAMP:20260420T022940
CREATED:20190913T171750Z
LAST-MODIFIED:20190913T175147Z
UID:2137-1570176000-1570190400@friendsofgwinnettseniors.org
SUMMARY:Fish4Friends
DESCRIPTION:The 4th Annual Fish4Friends is Friday\, October 4\, 2019\, launching at 8am from Port Royal Marina (see address and map below) on Lake Lanier. \nThe registration form contains all cost info.  You will need to download the form to complete the interactive pdf as some browsers will not save the entered info and/or allow submission of the form.  Once downloaded and completed\, submit the form by clicking the red “Submit Form” button at the bottom of the page.  Click here to access. \nA fishing license is required for all participants. \nClick here for the FAQ sheet. \nCoffee & biscuits will be provided pre-launch and a box lunch upon return to the marina. \n 
URL:https://friendsofgwinnettseniors.org/event/fish4friends-2/
LOCATION:Port Royal Marina\, 8800 Port Royale Drive\, Gainesville\, GA\, 30506
CATEGORIES:Fishing
ATTACH;FMTTYPE=image/jpeg:https://friendsofgwinnettseniors.org/wp-content/uploads/2016/07/fish4friendslogo_3-e1523975844716.jpg
END:VEVENT
END:VCALENDAR